BEGIN:VCALENDAR
VERSION:2.0
PRODID:-//Kunstgeschichtliches Institut - ECPv6.15.20//NONSGML v1.0//EN
CALSCALE:GREGORIAN
METHOD:PUBLISH
X-WR-CALNAME:Kunstgeschichtliches Institut
X-ORIGINAL-URL:https://kgi.ruhr-uni-bochum.de
X-WR-CALDESC:Veranstaltungen für Kunstgeschichtliches Institut
REFRESH-INTERVAL;VALUE=DURATION:PT1H
X-Robots-Tag:noindex
X-PUBLISHED-TTL:PT1H
BEGIN:VTIMEZONE
TZID:Europe/Berlin
BEGIN:DAYLIGHT
TZOFFSETFROM:+0100
TZOFFSETTO:+0200
TZNAME:CEST
DTSTART:20250330T010000
END:DAYLIGHT
BEGIN:STANDARD
TZOFFSETFROM:+0200
TZOFFSETTO:+0100
TZNAME:CET
DTSTART:20251026T010000
END:STANDARD
BEGIN:DAYLIGHT
TZOFFSETFROM:+0100
TZOFFSETTO:+0200
TZNAME:CEST
DTSTART:20260329T010000
END:DAYLIGHT
BEGIN:STANDARD
TZOFFSETFROM:+0200
TZOFFSETTO:+0100
TZNAME:CET
DTSTART:20261025T010000
END:STANDARD
BEGIN:DAYLIGHT
TZOFFSETFROM:+0100
TZOFFSETTO:+0200
TZNAME:CEST
DTSTART:20270328T010000
END:DAYLIGHT
BEGIN:STANDARD
TZOFFSETFROM:+0200
TZOFFSETTO:+0100
TZNAME:CET
DTSTART:20271031T010000
END:STANDARD
END:VTIMEZONE
BEGIN:VEVENT
DTSTART;TZID=Europe/Berlin:20260326T093000
DTEND;TZID=Europe/Berlin:20260326T170000
DTSTAMP:20260421T002621
CREATED:20260311T072559Z
LAST-MODIFIED:20260311T072644Z
UID:22923-1774517400-1774544400@kgi.ruhr-uni-bochum.de
SUMMARY:CB
DESCRIPTION:﻿﻿
URL:https://kgi.ruhr-uni-bochum.de/event/cb-2/
END:VEVENT
END:VCALENDAR