BEGIN:VCALENDAR
VERSION:2.0
PRODID:-//Kunstgeschichtliches Institut - ECPv6.15.20//NONSGML v1.0//EN
CALSCALE:GREGORIAN
METHOD:PUBLISH
X-ORIGINAL-URL:https://kgi.ruhr-uni-bochum.de
X-WR-CALDESC:Veranstaltungen für Kunstgeschichtliches Institut
REFRESH-INTERVAL;VALUE=DURATION:PT1H
X-Robots-Tag:noindex
X-PUBLISHED-TTL:PT1H
BEGIN:VTIMEZONE
TZID:Europe/Berlin
BEGIN:DAYLIGHT
TZOFFSETFROM:+0100
TZOFFSETTO:+0200
TZNAME:CEST
DTSTART:20250330T010000
END:DAYLIGHT
BEGIN:STANDARD
TZOFFSETFROM:+0200
TZOFFSETTO:+0100
TZNAME:CET
DTSTART:20251026T010000
END:STANDARD
BEGIN:DAYLIGHT
TZOFFSETFROM:+0100
TZOFFSETTO:+0200
TZNAME:CEST
DTSTART:20260329T010000
END:DAYLIGHT
BEGIN:STANDARD
TZOFFSETFROM:+0200
TZOFFSETTO:+0100
TZNAME:CET
DTSTART:20261025T010000
END:STANDARD
BEGIN:DAYLIGHT
TZOFFSETFROM:+0100
TZOFFSETTO:+0200
TZNAME:CEST
DTSTART:20270328T010000
END:DAYLIGHT
BEGIN:STANDARD
TZOFFSETFROM:+0200
TZOFFSETTO:+0100
TZNAME:CET
DTSTART:20271031T010000
END:STANDARD
END:VTIMEZONE
BEGIN:VEVENT
DTSTART;TZID=Europe/Berlin:20260113T160000
DTEND;TZID=Europe/Berlin:20260113T180000
DTSTAMP:20260421T041431
CREATED:20251103T105136Z
LAST-MODIFIED:20251103T105136Z
UID:22069-1768320000-1768327200@kgi.ruhr-uni-bochum.de
SUMMARY:SE Meyer Schapiro
DESCRIPTION:
URL:https://kgi.ruhr-uni-bochum.de/event/se-meyer-schapiro-9/
END:VEVENT
BEGIN:VEVENT
DTSTART;TZID=Europe/Berlin:20260120T160000
DTEND;TZID=Europe/Berlin:20260120T180000
DTSTAMP:20260421T041431
CREATED:20251103T105202Z
LAST-MODIFIED:20251103T105202Z
UID:22072-1768924800-1768932000@kgi.ruhr-uni-bochum.de
SUMMARY:SE Meyer Schapiro
DESCRIPTION:
URL:https://kgi.ruhr-uni-bochum.de/event/se-meyer-schapiro-10/
END:VEVENT
BEGIN:VEVENT
DTSTART;TZID=Europe/Berlin:20260122T080000
DTEND;TZID=Europe/Berlin:20260122T180000
DTSTAMP:20260421T041431
CREATED:20251015T124904Z
LAST-MODIFIED:20251015T124904Z
UID:21780-1769068800-1769104800@kgi.ruhr-uni-bochum.de
SUMMARY:Kolloquium StM
DESCRIPTION:
URL:https://kgi.ruhr-uni-bochum.de/event/kolloquium-stm-4/
END:VEVENT
BEGIN:VEVENT
DTSTART;TZID=Europe/Berlin:20260127T100000
DTEND;TZID=Europe/Berlin:20260127T160000
DTSTAMP:20260421T041431
CREATED:20251110T105711Z
LAST-MODIFIED:20251110T105801Z
UID:22158-1769508000-1769529600@kgi.ruhr-uni-bochum.de
SUMMARY:ÄS: Kolloquium
DESCRIPTION:
URL:https://kgi.ruhr-uni-bochum.de/event/kolloquium-aes/
LOCATION:Besprechungsraum 2/160\, Universitätsstr. 150\, Bochum\, Nordrhein Westfalen\, 44780\, Deutschland
END:VEVENT
BEGIN:VEVENT
DTSTART;TZID=Europe/Berlin:20260127T160000
DTEND;TZID=Europe/Berlin:20260127T180000
DTSTAMP:20260421T041431
CREATED:20251103T105301Z
LAST-MODIFIED:20251103T105301Z
UID:22075-1769529600-1769536800@kgi.ruhr-uni-bochum.de
SUMMARY:SE Meyer Schapiro
DESCRIPTION:
URL:https://kgi.ruhr-uni-bochum.de/event/se-meyer-schapiro-11/
END:VEVENT
BEGIN:VEVENT
DTSTART;TZID=Europe/Berlin:20260129T150000
DTEND;TZID=Europe/Berlin:20260129T163000
DTSTAMP:20260421T041431
CREATED:20260120T134739Z
LAST-MODIFIED:20260120T134739Z
UID:22664-1769698800-1769704200@kgi.ruhr-uni-bochum.de
SUMMARY:Besprechung Ausstellung MuT
DESCRIPTION:
URL:https://kgi.ruhr-uni-bochum.de/event/besprechung-ausstellung-mut/
END:VEVENT
END:VCALENDAR